BEGIN:VCALENDAR
VERSION:2.0
PRODID:-//Ananya-Women@Work - ECPv6.11.2.1//NONSGML v1.0//EN
CALSCALE:GREGORIAN
METHOD:PUBLISH
X-WR-CALNAME:Ananya-Women@Work
X-ORIGINAL-URL:https://ananyawomenatwork.com
X-WR-CALDESC:Events for Ananya-Women@Work
REFRESH-INTERVAL;VALUE=DURATION:PT1H
X-Robots-Tag:noindex
X-PUBLISHED-TTL:PT1H
BEGIN:VTIMEZONE
TZID:UTC
BEGIN:STANDARD
TZOFFSETFROM:+0000
TZOFFSETTO:+0000
TZNAME:UTC
DTSTART:20240101T000000
END:STANDARD
END:VTIMEZONE
BEGIN:VEVENT
DTSTART;TZID=UTC:20241130T080000
DTEND;TZID=UTC:20241230T170000
DTSTAMP:20260421T154954
CREATED:20241105T043216Z
LAST-MODIFIED:20250124T055218Z
UID:23864-1732953600-1735578000@ananyawomenatwork.com
SUMMARY:Ceasing Cassandra's Curse
DESCRIPTION:Princess Cassandra was blessed with the power of prophecy and cursed with “no one believing her”. Leaders unknowingly create a culture of silence that could impact the organisation. Even early warning signals which could help organisations save millions are ignored because no one speaks up. \nThe session is based on the four levels of psychological safety\, moving from a culture of inclusion to a culture of innovation as defined by the author Timothy Clarke. \nCeasing Cassandra’s Curse helps participants explore the four levels of psychological safety and as leaders create new possibilities to enable thriving sustainable organisation.
URL:https://ananyawomenatwork.com/event/ceasing-cassandras-curse/
LOCATION:The Chancory Pavilion\, Bangalore
CATEGORIES:Past Events
ATTACH;FMTTYPE=image/jpeg:https://ananyawomenatwork.com/wp-content/uploads/2024/11/2-11.jpg
END:VEVENT
END:VCALENDAR