BEGIN:VCALENDAR
VERSION:2.0
PRODID:-//Ananya-Women@Work - ECPv6.11.2.1//NONSGML v1.0//EN
CALSCALE:GREGORIAN
METHOD:PUBLISH
X-WR-CALNAME:Ananya-Women@Work
X-ORIGINAL-URL:https://ananyawomenatwork.com
X-WR-CALDESC:Events for Ananya-Women@Work
REFRESH-INTERVAL;VALUE=DURATION:PT1H
X-Robots-Tag:noindex
X-PUBLISHED-TTL:PT1H
BEGIN:VTIMEZONE
TZID:UTC
BEGIN:STANDARD
TZOFFSETFROM:+0000
TZOFFSETTO:+0000
TZNAME:UTC
DTSTART:20240101T000000
END:STANDARD
END:VTIMEZONE
BEGIN:VEVENT
DTSTART;TZID=UTC:20240926T110000
DTEND;TZID=UTC:20240926T130000
DTSTAMP:20260421T155021
CREATED:20240930T122741Z
LAST-MODIFIED:20241105T043600Z
UID:23838-1727348400-1727355600@ananyawomenatwork.com
SUMMARY:Climbing Everest Together
DESCRIPTION:During Facilitation Week celebrated by the International Association of Facilitators (IAF)\, our organization facilitated a leadership session\, “Climbing Everest Together\,” for a client. Using innovative techniques like the Lotus Blossom for creative problem-solving and the Gallery Walk for building consensus\, participants explored leadership through the lens of collaboration\, resilience\, and strategic thinking. The session empowered leaders to foster team cohesion\, embrace diverse perspectives\, and make well-rounded decisions\, preparing them to guide their teams to new heights.
URL:https://ananyawomenatwork.com/event/climbing-everest-together/
CATEGORIES:Past Events
ATTACH;FMTTYPE=image/jpeg:https://ananyawomenatwork.com/wp-content/uploads/2024/09/Solunus.jpg
END:VEVENT
END:VCALENDAR