BEGIN:VCALENDAR
VERSION:2.0
PRODID:-//Ananya-Women@Work - ECPv6.11.2.1//NONSGML v1.0//EN
CALSCALE:GREGORIAN
METHOD:PUBLISH
X-WR-CALNAME:Ananya-Women@Work
X-ORIGINAL-URL:https://ananyawomenatwork.com
X-WR-CALDESC:Events for Ananya-Women@Work
REFRESH-INTERVAL;VALUE=DURATION:PT1H
X-Robots-Tag:noindex
X-PUBLISHED-TTL:PT1H
BEGIN:VTIMEZONE
TZID:UTC
BEGIN:STANDARD
TZOFFSETFROM:+0000
TZOFFSETTO:+0000
TZNAME:UTC
DTSTART:20250101T000000
END:STANDARD
END:VTIMEZONE
BEGIN:VEVENT
DTSTART;TZID=UTC:20250515T193000
DTEND;TZID=UTC:20250515T210000
DTSTAMP:20260424T172345
CREATED:20250505T160703Z
LAST-MODIFIED:20251030T131959Z
UID:24314-1747337400-1747342800@ananyawomenatwork.com
SUMMARY:Whispers of Belonging
DESCRIPTION:IAF India\, Hyderabad Hub presents Whispers of Belonging by Madhujit Singh and Bhavana Arora.  The 90-minute session guides the participants to co-create inclusion through language during the facilitation process \nObjectives: \nDuring the session you will \n\n\nReflect on and appreciate the difference between Inclusion and Belonging through the lens of facilitation. \n\n\nRecognize how the language can unintentionally exclude during our facilitation. \n\n\nExplore and co-create inclusive language that nurtures a sense of belonging in our facilitated spaces. \n\n\nFacilitated by  \nMadhujit Singh\, DEIB consultant\, Member IAF \nBhavana Arora\, Positivity Practitioner\, Member IAF \nRegistration Link https://us02web.zoom.us/meeting/register/zW6vb_NoSmK1LW4QxXcMag
URL:https://ananyawomenatwork.com/event/whispers-of-belonging/
LOCATION:Online
CATEGORIES:Past Events
ATTACH;FMTTYPE=image/png:https://ananyawomenatwork.com/wp-content/uploads/2025/05/2024-SM-Posters.png
END:VEVENT
END:VCALENDAR